Package: RVS Version: 1.30.0 Command: rm -rf RVS.buildbin-libdir && mkdir RVS.buildbin-libdir && /Users/biocbuild/BBS/utils/build-universal.sh RVS_1.30.0.tar.gz /Library/Frameworks/R.framework/Resources/bin/R RVS.buildbin-libdir StartedAt: 2025-04-22 01:06:08 -0400 (Tue, 22 Apr 2025) EndedAt: 2025-04-22 01:06:27 -0400 (Tue, 22 Apr 2025) EllapsedTime: 19.5 seconds RetCode: 0 Status: OK PackageFile: RVS_1.30.0.tgz PackageFileSize: 688.6 KiB