Package: RVS Version: 1.30.0 Command: /Library/Frameworks/R.framework/Resources/bin/R CMD check --install=check:RVS.install-out.txt --library=/Library/Frameworks/R.framework/Resources/library --no-vignettes --timings RVS_1.30.0.tar.gz StartedAt: 2025-05-03 08:09:19 -0400 (Sat, 03 May 2025) EndedAt: 2025-05-03 08:12:53 -0400 (Sat, 03 May 2025) EllapsedTime: 213.3 seconds RetCode: 0 Status: WARNINGS CheckDir: RVS.Rcheck Warnings: 1