Package: RVS Version: 1.30.0 Command: /Library/Frameworks/R.framework/Resources/bin/R CMD build --keep-empty-dirs --no-resave-data RVS StartedAt: 2025-05-02 07:33:40 -0400 (Fri, 02 May 2025) EndedAt: 2025-05-02 07:36:18 -0400 (Fri, 02 May 2025) EllapsedTime: 157.9 seconds RetCode: 0 Status: OK PackageFile: RVS_1.30.0.tar.gz PackageFileSize: 567 KiB