Package: RUVnormalize Version: 1.42.0 Command: rm -rf RUVnormalize.buildbin-libdir && mkdir RUVnormalize.buildbin-libdir && E:\biocbuild\bbs-3.21-bioc\R\bin\R.exe CMD INSTALL --build --library=RUVnormalize.buildbin-libdir RUVnormalize_1.42.0.tar.gz StartedAt: 2025-08-15 10:10:56 -0400 (Fri, 15 Aug 2025) EndedAt: 2025-08-15 10:11:11 -0400 (Fri, 15 Aug 2025) EllapsedTime: 14.9 seconds RetCode: 0 Status: OK PackageFile: RUVnormalize_1.42.0.zip PackageFileSize: 227.2 KiB