Package: RUVcorr Version: 1.40.0 Command: /Library/Frameworks/R.framework/Resources/bin/R CMD check --install=check:RUVcorr.install-out.txt --library=/Library/Frameworks/R.framework/Resources/library --no-vignettes --timings RUVcorr_1.40.0.tar.gz StartedAt: 2025-05-06 08:54:59 -0400 (Tue, 06 May 2025) EndedAt: 2025-05-06 08:56:36 -0400 (Tue, 06 May 2025) EllapsedTime: 96.9 seconds RetCode: 0 Status: WARNINGS CheckDir: RUVcorr.Rcheck Warnings: 1