Package: RUVcorr Version: 1.40.0 Command: /Library/Frameworks/R.framework/Resources/bin/R CMD build --keep-empty-dirs --no-resave-data RUVcorr StartedAt: 2025-05-05 21:56:35 -0400 (Mon, 05 May 2025) EndedAt: 2025-05-05 21:58:05 -0400 (Mon, 05 May 2025) EllapsedTime: 89.2 seconds RetCode: 0 Status: OK PackageFile: RUVcorr_1.40.0.tar.gz PackageFileSize: 672.3 KiB