Package: RUVSeq Version: 1.40.0 Command: /Library/Frameworks/R.framework/Resources/bin/R CMD build --keep-empty-dirs --no-resave-data RUVSeq StartedAt: 2025-01-03 06:48:28 -0500 (Fri, 03 Jan 2025) EndedAt: 2025-01-03 06:50:26 -0500 (Fri, 03 Jan 2025) EllapsedTime: 118.2 seconds RetCode: 0 Status: OK PackageFile: RUVSeq_1.40.0.tar.gz PackageFileSize: 495.9 KiB