Package: RUVSeq Version: 1.40.0 Command: rm -rf RUVSeq.buildbin-libdir && mkdir RUVSeq.buildbin-libdir && /Users/biocbuild/BBS/utils/build-universal.sh RUVSeq_1.40.0.tar.gz /Library/Frameworks/R.framework/Resources/bin/R RUVSeq.buildbin-libdir StartedAt: 2025-01-04 16:22:26 -0500 (Sat, 04 Jan 2025) EndedAt: 2025-01-04 16:23:18 -0500 (Sat, 04 Jan 2025) EllapsedTime: 51.3 seconds RetCode: 0 Status: OK PackageFile: RUVSeq_1.40.0.tgz PackageFileSize: 535.8 KiB