Package: RUCova Version: 1.2.0 Command: /home/biocbuild/bbs-3.22-bioc/R/bin/R CMD INSTALL RUCova StartedAt: 2025-11-13 15:23:23 -0500 (Thu, 13 Nov 2025) EndedAt: 2025-11-13 15:23:49 -0500 (Thu, 13 Nov 2025) EllapsedTime: 26.1 seconds RetCode: 0 Status: OK