Package: RTopper Version: 1.54.0 Command: rm -rf RTopper.buildbin-libdir && mkdir RTopper.buildbin-libdir && /Users/biocbuild/BBS/utils/build-universal.sh RTopper_1.54.0.tar.gz /Library/Frameworks/R.framework/Resources/bin/R RTopper.buildbin-libdir StartedAt: 2025-04-22 01:05:54 -0400 (Tue, 22 Apr 2025) EndedAt: 2025-04-22 01:06:09 -0400 (Tue, 22 Apr 2025) EllapsedTime: 15.0 seconds RetCode: 0 Status: OK PackageFile: RTopper_1.54.0.tgz PackageFileSize: 1.375 MiB