Package: RTopper Version: 1.54.0 Maintainer: Luigi Marchionni MaintainerEmail: marchion at jhu.edu git_url: https://git.bioconductor.org/packages/RTopper git_branch: RELEASE_3_21 git_last_commit: d3232c0 git_last_commit_date: 2025-04-15 10:10:13 -0400 (Tue, 15 Apr 2025)