Package: RTN Version: 2.30.0 Command: /home/biocbuild/R/R/bin/R CMD build --keep-empty-dirs --no-resave-data RTN StartedAt: 2025-01-31 02:19:48 -0000 (Fri, 31 Jan 2025) EndedAt: 2025-01-31 02:24:25 -0000 (Fri, 31 Jan 2025) EllapsedTime: 277.3 seconds RetCode: 0 Status: OK PackageFile: RTN_2.30.0.tar.gz PackageFileSize: 10.29 MiB