Package: RTCGAToolbox Version: 2.38.0 Command: /home/biocbuild/bbs-3.21-bioc/R/bin/R CMD INSTALL RTCGAToolbox StartedAt: 2025-10-08 15:42:32 -0400 (Wed, 08 Oct 2025) EndedAt: 2025-10-08 15:42:57 -0400 (Wed, 08 Oct 2025) EllapsedTime: 24.4 seconds RetCode: 0 Status: OK