Package: RTCGAToolbox Version: 2.38.0 Command: /Library/Frameworks/R.framework/Resources/bin/R CMD INSTALL RTCGAToolbox StartedAt: 2025-04-21 15:22:39 -0400 (Mon, 21 Apr 2025) EndedAt: 2025-04-21 15:22:50 -0400 (Mon, 21 Apr 2025) EllapsedTime: 10.5 seconds RetCode: 0 Status: OK