Package: RTCGA Version: 1.38.0 Command: rm -rf RTCGA.buildbin-libdir && mkdir RTCGA.buildbin-libdir && E:\biocbuild\bbs-3.21-bioc\R\bin\R.exe CMD INSTALL --build --library=RTCGA.buildbin-libdir RTCGA_1.38.0.tar.gz StartedAt: 2025-08-15 10:10:18 -0400 (Fri, 15 Aug 2025) EndedAt: 2025-08-15 10:10:43 -0400 (Fri, 15 Aug 2025) EllapsedTime: 25.1 seconds RetCode: 0 Status: OK PackageFile: RTCGA_1.38.0.zip PackageFileSize: 2.539 MiB