Package: RSeqAn Version: 1.28.0 Command: /Library/Frameworks/R.framework/Resources/bin/R CMD check --install=check:RSeqAn.install-out.txt --library=/Library/Frameworks/R.framework/Resources/library --no-vignettes --timings RSeqAn_1.28.0.tar.gz StartedAt: 2025-05-06 08:51:44 -0400 (Tue, 06 May 2025) EndedAt: 2025-05-06 08:52:36 -0400 (Tue, 06 May 2025) EllapsedTime: 51.9 seconds RetCode: 0 Status: OK CheckDir: RSeqAn.Rcheck Warnings: 0