Package: RSeqAn Version: 1.28.0 Command: /Library/Frameworks/R.framework/Resources/bin/R CMD INSTALL RSeqAn StartedAt: 2025-04-21 15:03:08 -0400 (Mon, 21 Apr 2025) EndedAt: 2025-04-21 15:03:39 -0400 (Mon, 21 Apr 2025) EllapsedTime: 30.9 seconds RetCode: 0 Status: OK