Package: RSeqAn Version: 1.28.0 Command: /Library/Frameworks/R.framework/Resources/bin/R CMD check --install=check:RSeqAn.install-out.txt --library=/Library/Frameworks/R.framework/Resources/library --no-vignettes --timings RSeqAn_1.28.0.tar.gz StartedAt: 2025-04-21 23:11:55 -0400 (Mon, 21 Apr 2025) EndedAt: 2025-04-21 23:12:27 -0400 (Mon, 21 Apr 2025) EllapsedTime: 32.0 seconds RetCode: 0 Status: OK CheckDir: RSeqAn.Rcheck Warnings: 0