Package: RSeqAn Version: 1.28.0 Command: /Library/Frameworks/R.framework/Resources/bin/R CMD INSTALL RSeqAn StartedAt: 2025-05-05 15:03:45 -0400 (Mon, 05 May 2025) EndedAt: 2025-05-05 15:03:51 -0400 (Mon, 05 May 2025) EllapsedTime: 5.8 seconds RetCode: 0 Status: OK