Package: RSeqAn Version: 1.28.0 Command: /Library/Frameworks/R.framework/Resources/bin/R CMD build --keep-empty-dirs --no-resave-data RSeqAn StartedAt: 2025-05-09 07:20:29 -0400 (Fri, 09 May 2025) EndedAt: 2025-05-09 07:20:51 -0400 (Fri, 09 May 2025) EllapsedTime: 21.7 seconds RetCode: 0 Status: OK PackageFile: RSeqAn_1.28.0.tar.gz PackageFileSize: 1.621 MiB