Package: RRHO Version: 1.48.0 Command: /Library/Frameworks/R.framework/Resources/bin/R CMD INSTALL RRHO StartedAt: 2025-04-21 15:02:22 -0400 (Mon, 21 Apr 2025) EndedAt: 2025-04-21 15:02:30 -0400 (Mon, 21 Apr 2025) EllapsedTime: 8.0 seconds RetCode: 0 Status: OK