Package: RRHO Version: 1.48.0 Command: /Library/Frameworks/R.framework/Resources/bin/R CMD check --install=check:RRHO.install-out.txt --library=/Library/Frameworks/R.framework/Resources/library --no-vignettes --timings RRHO_1.48.0.tar.gz StartedAt: 2025-04-21 21:20:55 -0400 (Mon, 21 Apr 2025) EndedAt: 2025-04-21 21:21:07 -0400 (Mon, 21 Apr 2025) EllapsedTime: 12.2 seconds RetCode: 0 Status: OK CheckDir: RRHO.Rcheck Warnings: 0