Package: RRHO Version: 1.48.0 Command: /Library/Frameworks/R.framework/Resources/bin/R CMD build --keep-empty-dirs --no-resave-data RRHO StartedAt: 2025-04-21 17:29:49 -0400 (Mon, 21 Apr 2025) EndedAt: 2025-04-21 17:29:54 -0400 (Mon, 21 Apr 2025) EllapsedTime: 5.1 seconds RetCode: 0 Status: OK PackageFile: RRHO_1.48.0.tar.gz PackageFileSize: 717.9 KiB