Package: RRHO Version: 1.48.0 Maintainer: Jonathan Rosenblatt MaintainerEmail: john.ros.work at gmail.com git_url: https://git.bioconductor.org/packages/RRHO git_branch: RELEASE_3_21 git_last_commit: 5c177e4 git_last_commit_date: 2025-04-15 10:25:28 -0400 (Tue, 15 Apr 2025)