Package: RPA Version: 1.62.0 Command: /home/biocbuild/R/R/bin/R CMD check --install=check:RPA.install-out.txt --library=/home/biocbuild/R/R/site-library --no-vignettes --timings RPA_1.62.0.tar.gz StartedAt: 2025-01-31 09:53:54 -0000 (Fri, 31 Jan 2025) EndedAt: 2025-01-31 09:56:38 -0000 (Fri, 31 Jan 2025) EllapsedTime: 163.1 seconds RetCode: 0 Status: OK CheckDir: RPA.Rcheck Warnings: 0