Package: ROntoTools Version: 2.34.0 Command: /home/biocbuild/R/R/bin/R CMD INSTALL ROntoTools StartedAt: 2025-01-30 20:15:06 -0000 (Thu, 30 Jan 2025) EndedAt: 2025-01-30 20:15:21 -0000 (Thu, 30 Jan 2025) EllapsedTime: 15.5 seconds RetCode: 0 Status: OK