Package: ROntoTools Version: 2.34.0 Command: /home/biocbuild/R/R/bin/R CMD build --keep-empty-dirs --no-resave-data ROntoTools StartedAt: 2025-01-31 02:17:43 -0000 (Fri, 31 Jan 2025) EndedAt: 2025-01-31 02:18:35 -0000 (Fri, 31 Jan 2025) EllapsedTime: 52.1 seconds RetCode: 0 Status: OK PackageFile: ROntoTools_2.34.0.tar.gz PackageFileSize: 1.476 MiB