Package: ROTS Version: 2.0.0 Command: chmod a+r ROTS -R && E:\biocbuild\bbs-3.21-bioc\R\bin\R.exe CMD build --keep-empty-dirs --no-resave-data ROTS StartedAt: 2025-08-14 21:50:56 -0400 (Thu, 14 Aug 2025) EndedAt: 2025-08-14 21:51:43 -0400 (Thu, 14 Aug 2025) EllapsedTime: 47.0 seconds RetCode: 0 Status: OK PackageFile: ROTS_2.0.0.tar.gz PackageFileSize: 351.2 KiB