Package: ROCpAI Version: 1.18.0 Command: /home/biocbuild/R/R/bin/R CMD check --install=check:ROCpAI.install-out.txt --library=/home/biocbuild/R/R/site-library --no-vignettes --timings ROCpAI_1.18.0.tar.gz StartedAt: 2025-01-31 09:51:49 -0000 (Fri, 31 Jan 2025) EndedAt: 2025-01-31 09:54:28 -0000 (Fri, 31 Jan 2025) EllapsedTime: 159.1 seconds RetCode: 0 Status: OK CheckDir: ROCpAI.Rcheck Warnings: 0