Package: ROC Version: 1.84.0 Maintainer: Vince Carey MaintainerEmail: stvjc at channing.harvard.edu git_url: https://git.bioconductor.org/packages/ROC git_branch: RELEASE_3_21 git_last_commit: 9577c49 git_last_commit_date: 2025-04-15 09:15:40 -0400 (Tue, 15 Apr 2025)