Package: RNAmodR Version: 1.20.0 Command: F:\biocbuild\bbs-3.20-bioc\R\bin\R.exe CMD check --no-multiarch --install=check:RNAmodR.install-out.txt --library=F:\biocbuild\bbs-3.20-bioc\R\library --no-vignettes --timings RNAmodR_1.20.0.tar.gz StartedAt: 2025-01-31 05:48:22 -0500 (Fri, 31 Jan 2025) EndedAt: 2025-01-31 06:00:09 -0500 (Fri, 31 Jan 2025) EllapsedTime: 706.3 seconds RetCode: 0 Status: OK CheckDir: RNAmodR.Rcheck Warnings: 0