Package: RNAmodR Version: 1.20.0 Command: rm -rf RNAmodR.buildbin-libdir && mkdir RNAmodR.buildbin-libdir && F:\biocbuild\bbs-3.20-bioc\R\bin\R.exe CMD INSTALL --build --library=RNAmodR.buildbin-libdir RNAmodR_1.20.0.tar.gz StartedAt: 2025-01-31 09:28:00 -0500 (Fri, 31 Jan 2025) EndedAt: 2025-01-31 09:30:40 -0500 (Fri, 31 Jan 2025) EllapsedTime: 159.7 seconds RetCode: 0 Status: OK PackageFile: RNAmodR_1.20.0.zip PackageFileSize: 2.746 MiB