Package: RNAmodR Version: 1.22.0 Command: chmod a+r RNAmodR -R && E:\biocbuild\bbs-3.21-bioc\R\bin\R.exe CMD build --keep-empty-dirs --no-resave-data RNAmodR StartedAt: 2025-08-14 21:48:11 -0400 (Thu, 14 Aug 2025) EndedAt: 2025-08-14 21:53:07 -0400 (Thu, 14 Aug 2025) EllapsedTime: 296.6 seconds RetCode: 0 Status: OK PackageFile: RNAmodR_1.22.0.tar.gz PackageFileSize: 1.292 MiB