Package: RNAmodR Version: 1.22.0 Command: /Library/Frameworks/R.framework/Resources/bin/R CMD INSTALL RNAmodR StartedAt: 2025-05-05 16:20:33 -0400 (Mon, 05 May 2025) EndedAt: 2025-05-05 16:23:07 -0400 (Mon, 05 May 2025) EllapsedTime: 153.9 seconds RetCode: 0 Status: OK