Package: RNAmodR Version: 1.22.0 Command: /Library/Frameworks/R.framework/Resources/bin/R CMD check --install=check:RNAmodR.install-out.txt --library=/Library/Frameworks/R.framework/Resources/library --no-vignettes --timings RNAmodR_1.22.0.tar.gz StartedAt: 2025-05-06 08:39:04 -0400 (Tue, 06 May 2025) EndedAt: 2025-05-06 08:58:37 -0400 (Tue, 06 May 2025) EllapsedTime: 1172.5 seconds RetCode: 0 Status: OK CheckDir: RNAmodR.Rcheck Warnings: 0