Package: RNAmodR Version: 1.22.0 Command: /Library/Frameworks/R.framework/Resources/bin/R CMD check --install=check:RNAmodR.install-out.txt --library=/Library/Frameworks/R.framework/Resources/library --no-vignettes --timings RNAmodR_1.22.0.tar.gz StartedAt: 2025-04-21 23:06:37 -0400 (Mon, 21 Apr 2025) EndedAt: 2025-04-21 23:16:55 -0400 (Mon, 21 Apr 2025) EllapsedTime: 617.9 seconds RetCode: 0 Status: OK CheckDir: RNAmodR.Rcheck Warnings: 0