Package: RNAmodR Version: 1.22.0 Command: rm -rf RNAmodR.buildbin-libdir && mkdir RNAmodR.buildbin-libdir && /Users/biocbuild/BBS/utils/build-universal.sh RNAmodR_1.22.0.tar.gz /Library/Frameworks/R.framework/Resources/bin/R RNAmodR.buildbin-libdir StartedAt: 2025-04-22 01:04:47 -0400 (Tue, 22 Apr 2025) EndedAt: 2025-04-22 01:06:25 -0400 (Tue, 22 Apr 2025) EllapsedTime: 97.8 seconds RetCode: 0 Status: OK PackageFile: RNAmodR_1.22.0.tgz PackageFileSize: 2.978 MiB