Package: RNAmodR Version: 1.22.0 Command: /home/biocbuild/R/R/bin/R CMD check --install=check:RNAmodR.install-out.txt --library=/home/biocbuild/R/R/site-library --no-vignettes --timings RNAmodR_1.22.0.tar.gz StartedAt: 2025-05-09 13:01:34 -0000 (Fri, 09 May 2025) EndedAt: 2025-05-09 13:14:34 -0000 (Fri, 09 May 2025) EllapsedTime: 779.9 seconds RetCode: 0 Status: OK CheckDir: RNAmodR.Rcheck Warnings: 0