Package: RNAmodR Version: 1.22.0 Command: rm -rf RNAmodR.buildbin-libdir && mkdir RNAmodR.buildbin-libdir && /Users/biocbuild/BBS/utils/build-universal.sh RNAmodR_1.22.0.tar.gz /Library/Frameworks/R.framework/Resources/bin/R RNAmodR.buildbin-libdir StartedAt: 2025-04-21 22:49:28 -0400 (Mon, 21 Apr 2025) EndedAt: 2025-04-21 22:49:59 -0400 (Mon, 21 Apr 2025) EllapsedTime: 30.5 seconds RetCode: 0 Status: OK PackageFile: RNAmodR_1.22.0.tgz PackageFileSize: 2.979 MiB