Package: RNAmodR Version: 1.22.0 Command: /Library/Frameworks/R.framework/Resources/bin/R CMD build --keep-empty-dirs --no-resave-data RNAmodR StartedAt: 2025-05-09 07:07:17 -0400 (Fri, 09 May 2025) EndedAt: 2025-05-09 07:11:01 -0400 (Fri, 09 May 2025) EllapsedTime: 224.0 seconds RetCode: 0 Status: OK PackageFile: RNAmodR_1.22.0.tar.gz PackageFileSize: 1.513 MiB