Package: RNAmodR.RiboMethSeq Version: 1.20.0 Command: rm -rf RNAmodR.RiboMethSeq.buildbin-libdir && mkdir RNAmodR.RiboMethSeq.buildbin-libdir && /Users/biocbuild/BBS/utils/build-universal.sh RNAmodR.RiboMethSeq_1.20.0.tar.gz /Library/Frameworks/R.framework/Resources/bin/R RNAmodR.RiboMethSeq.buildbin-libdir StartedAt: 2025-02-01 16:35:13 -0500 (Sat, 01 Feb 2025) EndedAt: 2025-02-01 16:36:26 -0500 (Sat, 01 Feb 2025) EllapsedTime: 72.2 seconds RetCode: 0 Status: OK PackageFile: RNAmodR.RiboMethSeq_1.20.0.tgz PackageFileSize: 719.2 KiB