Package: RNAmodR.ML Version: 1.22.0 Command: /home/biocbuild/bbs-3.21-bioc/R/bin/R CMD INSTALL RNAmodR.ML StartedAt: 2025-10-15 15:46:37 -0400 (Wed, 15 Oct 2025) EndedAt: 2025-10-15 15:47:36 -0400 (Wed, 15 Oct 2025) EllapsedTime: 59.1 seconds RetCode: 0 Status: OK