Package: RNAmodR.ML Version: 1.22.0 Command: /Library/Frameworks/R.framework/Resources/bin/R CMD INSTALL RNAmodR.ML StartedAt: 2025-04-21 15:40:59 -0400 (Mon, 21 Apr 2025) EndedAt: 2025-04-21 15:42:17 -0400 (Mon, 21 Apr 2025) EllapsedTime: 78.8 seconds RetCode: 0 Status: OK