Package: RNAdecay Version: 1.26.0 Command: /home/biocbuild/R/R/bin/R CMD INSTALL RNAdecay StartedAt: 2025-02-03 20:28:46 -0000 (Mon, 03 Feb 2025) EndedAt: 2025-02-03 20:39:36 -0000 (Mon, 03 Feb 2025) EllapsedTime: 649.6 seconds RetCode: 0 Status: OK