Package: RNAdecay Version: 1.26.0 Command: /home/biocbuild/R/R/bin/R CMD build --keep-empty-dirs --no-resave-data RNAdecay StartedAt: 2025-02-04 02:20:25 -0000 (Tue, 04 Feb 2025) EndedAt: 2025-02-04 02:38:04 -0000 (Tue, 04 Feb 2025) EllapsedTime: 1058.5 seconds RetCode: 0 Status: OK PackageFile: RNAdecay_1.26.0.tar.gz PackageFileSize: 2.708 MiB