Package: RNASeqPower Version: 1.48.0 Command: /Library/Frameworks/R.framework/Resources/bin/R CMD INSTALL RNASeqPower StartedAt: 2025-04-21 15:02:45 -0400 (Mon, 21 Apr 2025) EndedAt: 2025-04-21 15:03:05 -0400 (Mon, 21 Apr 2025) EllapsedTime: 19.4 seconds RetCode: 0 Status: OK