Package: RNASeqPower Version: 1.48.0 Maintainer: Terry M Therneau MaintainerEmail: therneau.terry at mayo.edu git_url: https://git.bioconductor.org/packages/RNASeqPower git_branch: RELEASE_3_21 git_last_commit: 8c40b86 git_last_commit_date: 2025-04-15 10:23:00 -0400 (Tue, 15 Apr 2025)