Package: RMassBank Version: 3.18.0 Command: E:\biocbuild\bbs-3.21-bioc\R\bin\R.exe CMD INSTALL RMassBank StartedAt: 2025-08-14 16:16:58 -0400 (Thu, 14 Aug 2025) EndedAt: 2025-08-14 16:19:39 -0400 (Thu, 14 Aug 2025) EllapsedTime: 161.0 seconds RetCode: 0 Status: OK