Package: RMassBank Version: 3.18.0 Command: /home/biocbuild/bbs-3.21-bioc/R/bin/R CMD build --keep-empty-dirs --no-resave-data RMassBank StartedAt: 2025-10-05 19:32:38 -0400 (Sun, 05 Oct 2025) EndedAt: 2025-10-05 19:39:45 -0400 (Sun, 05 Oct 2025) EllapsedTime: 426.5 seconds RetCode: 0 Status: OK PackageFile: RMassBank_3.18.0.tar.gz PackageFileSize: 1.844 MiB