Package: RJMCMCNucleosomes Version: 1.32.0 Command: /Library/Frameworks/R.framework/Resources/bin/R CMD build --keep-empty-dirs --no-resave-data RJMCMCNucleosomes StartedAt: 2025-05-08 21:47:28 -0400 (Thu, 08 May 2025) EndedAt: 2025-05-08 21:50:04 -0400 (Thu, 08 May 2025) EllapsedTime: 155.2 seconds RetCode: 0 Status: OK PackageFile: RJMCMCNucleosomes_1.32.0.tar.gz PackageFileSize: 721.6 KiB